BEGIN:VCALENDAR
VERSION:2.0
PRODID:-//Lurgan Baptist Church - ECPv6.0.6.2//NONSGML v1.0//EN
CALSCALE:GREGORIAN
METHOD:PUBLISH
X-WR-CALNAME:Lurgan Baptist Church
X-ORIGINAL-URL:https://www.lurganbaptist.church
X-WR-CALDESC:Events for Lurgan Baptist Church
REFRESH-INTERVAL;VALUE=DURATION:PT1H
X-Robots-Tag:noindex
X-PUBLISHED-TTL:PT1H
BEGIN:VTIMEZONE
TZID:Europe/London
BEGIN:DAYLIGHT
TZOFFSETFROM:+0000
TZOFFSETTO:+0100
TZNAME:BST
DTSTART:20260329T010000
END:DAYLIGHT
BEGIN:STANDARD
TZOFFSETFROM:+0100
TZOFFSETTO:+0000
TZNAME:GMT
DTSTART:20261025T010000
END:STANDARD
END:VTIMEZONE
BEGIN:VEVENT
DTSTART;TZID=Europe/London:20260226T200000
DTEND;TZID=Europe/London:20260226T210000
DTSTAMP:20260421T174256
CREATED:20201011T190302Z
LAST-MODIFIED:20201011T190302Z
UID:13665-1772136000-1772139600@www.lurganbaptist.church
SUMMARY:Prayer Meeting
DESCRIPTION:
URL:https://www.lurganbaptist.church/meeting/prayer-meeting/2026-02-26/
LOCATION:Main Church Building
CATEGORIES:Prayer
ATTACH;FMTTYPE=image/jpeg:https://www.lurganbaptist.church/wp-content/uploads/2020/05/Romans-12_121.jpg
END:VEVENT
BEGIN:VEVENT
DTSTART;TZID=Europe/London:20260228T140000
DTEND;TZID=Europe/London:20260228T160000
DTSTAMP:20260421T174256
CREATED:20221004T125725Z
LAST-MODIFIED:20221004T125725Z
UID:13666-1772287200-1772294400@www.lurganbaptist.church
SUMMARY:Street Outreach
DESCRIPTION:
URL:https://www.lurganbaptist.church/meeting/street-outreach/2026-02-28/
LOCATION:External
CATEGORIES:Outreach
ATTACH;FMTTYPE=image/jpeg:https://www.lurganbaptist.church/wp-content/uploads/2022/05/street2-2.jpg
END:VEVENT
BEGIN:VEVENT
DTSTART;TZID=Europe/London:20260301T110000
DTEND;TZID=Europe/London:20260301T120000
DTSTAMP:20260421T174256
CREATED:20201011T183621Z
LAST-MODIFIED:20201011T183621Z
UID:13671-1772362800-1772366400@www.lurganbaptist.church
SUMMARY:Sunday Morning Service & Breaking of Bread
DESCRIPTION:At 11 am every Sunday morning the assembly gathers for worship and to listen to an exposition of God’s Word. \nThe focus of the ministry in this service is to feed God’s people and to equip them for living a God-glorifying life. \nThe climax of this time together is when we meet around the Lord’s table to remember the Saviour’s sacrifice on the cross.
URL:https://www.lurganbaptist.church/meeting/sunday-morning-service-breaking-of-bread/2026-03-01/
LOCATION:Main Church Building
CATEGORIES:Services
ATTACH;FMTTYPE=image/jpeg:https://www.lurganbaptist.church/wp-content/uploads/2019/04/church-interior-4.jpg
END:VEVENT
BEGIN:VEVENT
DTSTART;TZID=Europe/London:20260301T190000
DTEND;TZID=Europe/London:20260301T190000
DTSTAMP:20260421T174256
CREATED:20201011T181412Z
LAST-MODIFIED:20201011T181412Z
UID:13670-1772391600-1772391600@www.lurganbaptist.church
SUMMARY:Gospel Service
DESCRIPTION:At 7 pm each Sunday evening we gather again to proclaim the gospel message. These meetings are convened to help those who have not put their faith in the Lord Jesus to come to a clearer understanding of the gospel and the desire is that people will respond by coming to Christ for Salvation. \nThere is a soloist or group who will minister the gospel by song. There is also a period of community singing at the outset of the meeting. \nIf you would like to know more about the gospel you will be made very welcome on a Sunday Night.
URL:https://www.lurganbaptist.church/meeting/gospel-service/2026-03-01/
LOCATION:Main Church Building
CATEGORIES:Services
ATTACH;FMTTYPE=image/jpeg:https://www.lurganbaptist.church/wp-content/uploads/2020/09/autumn-leaves.jpg
END:VEVENT
BEGIN:VEVENT
DTSTART;TZID=Europe/London:20260304T200000
DTEND;TZID=Europe/London:20260304T210000
DTSTAMP:20260421T174256
CREATED:20201011T185547Z
LAST-MODIFIED:20201011T185547Z
UID:13672-1772654400-1772658000@www.lurganbaptist.church
SUMMARY:Lurgan Baptist Women
DESCRIPTION:
URL:https://www.lurganbaptist.church/meeting/lurgan-baptist-women/2026-03-04/
LOCATION:Main Church Building
CATEGORIES:Adult's Ministries
ATTACH;FMTTYPE=image/jpeg:https://www.lurganbaptist.church/wp-content/uploads/2020/10/photo_2020-10-11_19-55-07.jpg
END:VEVENT
BEGIN:VEVENT
DTSTART;TZID=Europe/London:20260305T200000
DTEND;TZID=Europe/London:20260305T210000
DTSTAMP:20260421T174256
CREATED:20201011T190302Z
LAST-MODIFIED:20201011T190302Z
UID:13673-1772740800-1772744400@www.lurganbaptist.church
SUMMARY:Prayer Meeting
DESCRIPTION:
URL:https://www.lurganbaptist.church/meeting/prayer-meeting/2026-03-05/
LOCATION:Main Church Building
CATEGORIES:Prayer
ATTACH;FMTTYPE=image/jpeg:https://www.lurganbaptist.church/wp-content/uploads/2020/05/Romans-12_121.jpg
END:VEVENT
BEGIN:VEVENT
DTSTART;TZID=Europe/London:20260307T140000
DTEND;TZID=Europe/London:20260307T160000
DTSTAMP:20260421T174256
CREATED:20221004T125725Z
LAST-MODIFIED:20221004T125725Z
UID:13674-1772892000-1772899200@www.lurganbaptist.church
SUMMARY:Street Outreach
DESCRIPTION:
URL:https://www.lurganbaptist.church/meeting/street-outreach/2026-03-07/
LOCATION:External
CATEGORIES:Outreach
ATTACH;FMTTYPE=image/jpeg:https://www.lurganbaptist.church/wp-content/uploads/2022/05/street2-2.jpg
END:VEVENT
BEGIN:VEVENT
DTSTART;TZID=Europe/London:20260308T110000
DTEND;TZID=Europe/London:20260308T120000
DTSTAMP:20260421T174256
CREATED:20201011T183621Z
LAST-MODIFIED:20201011T183621Z
UID:13676-1772967600-1772971200@www.lurganbaptist.church
SUMMARY:Sunday Morning Service & Breaking of Bread
DESCRIPTION:At 11 am every Sunday morning the assembly gathers for worship and to listen to an exposition of God’s Word. \nThe focus of the ministry in this service is to feed God’s people and to equip them for living a God-glorifying life. \nThe climax of this time together is when we meet around the Lord’s table to remember the Saviour’s sacrifice on the cross.
URL:https://www.lurganbaptist.church/meeting/sunday-morning-service-breaking-of-bread/2026-03-08/
LOCATION:Main Church Building
CATEGORIES:Services
ATTACH;FMTTYPE=image/jpeg:https://www.lurganbaptist.church/wp-content/uploads/2019/04/church-interior-4.jpg
END:VEVENT
BEGIN:VEVENT
DTSTART;TZID=Europe/London:20260308T190000
DTEND;TZID=Europe/London:20260308T190000
DTSTAMP:20260421T174256
CREATED:20201011T181412Z
LAST-MODIFIED:20201011T181412Z
UID:13675-1772996400-1772996400@www.lurganbaptist.church
SUMMARY:Gospel Service
DESCRIPTION:At 7 pm each Sunday evening we gather again to proclaim the gospel message. These meetings are convened to help those who have not put their faith in the Lord Jesus to come to a clearer understanding of the gospel and the desire is that people will respond by coming to Christ for Salvation. \nThere is a soloist or group who will minister the gospel by song. There is also a period of community singing at the outset of the meeting. \nIf you would like to know more about the gospel you will be made very welcome on a Sunday Night.
URL:https://www.lurganbaptist.church/meeting/gospel-service/2026-03-08/
LOCATION:Main Church Building
CATEGORIES:Services
ATTACH;FMTTYPE=image/jpeg:https://www.lurganbaptist.church/wp-content/uploads/2020/09/autumn-leaves.jpg
END:VEVENT
BEGIN:VEVENT
DTSTART;TZID=Europe/London:20260312T200000
DTEND;TZID=Europe/London:20260312T210000
DTSTAMP:20260421T174256
CREATED:20201011T190302Z
LAST-MODIFIED:20201011T190302Z
UID:13677-1773345600-1773349200@www.lurganbaptist.church
SUMMARY:Prayer Meeting
DESCRIPTION:
URL:https://www.lurganbaptist.church/meeting/prayer-meeting/2026-03-12/
LOCATION:Main Church Building
CATEGORIES:Prayer
ATTACH;FMTTYPE=image/jpeg:https://www.lurganbaptist.church/wp-content/uploads/2020/05/Romans-12_121.jpg
END:VEVENT
BEGIN:VEVENT
DTSTART;TZID=Europe/London:20260314T140000
DTEND;TZID=Europe/London:20260314T160000
DTSTAMP:20260421T174256
CREATED:20221004T125725Z
LAST-MODIFIED:20221004T125725Z
UID:13678-1773496800-1773504000@www.lurganbaptist.church
SUMMARY:Street Outreach
DESCRIPTION:
URL:https://www.lurganbaptist.church/meeting/street-outreach/2026-03-14/
LOCATION:External
CATEGORIES:Outreach
ATTACH;FMTTYPE=image/jpeg:https://www.lurganbaptist.church/wp-content/uploads/2022/05/street2-2.jpg
END:VEVENT
BEGIN:VEVENT
DTSTART;TZID=Europe/London:20260315T110000
DTEND;TZID=Europe/London:20260315T120000
DTSTAMP:20260421T174256
CREATED:20201011T183621Z
LAST-MODIFIED:20201011T183621Z
UID:13680-1773572400-1773576000@www.lurganbaptist.church
SUMMARY:Sunday Morning Service & Breaking of Bread
DESCRIPTION:At 11 am every Sunday morning the assembly gathers for worship and to listen to an exposition of God’s Word. \nThe focus of the ministry in this service is to feed God’s people and to equip them for living a God-glorifying life. \nThe climax of this time together is when we meet around the Lord’s table to remember the Saviour’s sacrifice on the cross.
URL:https://www.lurganbaptist.church/meeting/sunday-morning-service-breaking-of-bread/2026-03-15/
LOCATION:Main Church Building
CATEGORIES:Services
ATTACH;FMTTYPE=image/jpeg:https://www.lurganbaptist.church/wp-content/uploads/2019/04/church-interior-4.jpg
END:VEVENT
BEGIN:VEVENT
DTSTART;TZID=Europe/London:20260315T190000
DTEND;TZID=Europe/London:20260315T190000
DTSTAMP:20260421T174256
CREATED:20201011T181412Z
LAST-MODIFIED:20201011T181412Z
UID:13679-1773601200-1773601200@www.lurganbaptist.church
SUMMARY:Gospel Service
DESCRIPTION:At 7 pm each Sunday evening we gather again to proclaim the gospel message. These meetings are convened to help those who have not put their faith in the Lord Jesus to come to a clearer understanding of the gospel and the desire is that people will respond by coming to Christ for Salvation. \nThere is a soloist or group who will minister the gospel by song. There is also a period of community singing at the outset of the meeting. \nIf you would like to know more about the gospel you will be made very welcome on a Sunday Night.
URL:https://www.lurganbaptist.church/meeting/gospel-service/2026-03-15/
LOCATION:Main Church Building
CATEGORIES:Services
ATTACH;FMTTYPE=image/jpeg:https://www.lurganbaptist.church/wp-content/uploads/2020/09/autumn-leaves.jpg
END:VEVENT
BEGIN:VEVENT
DTSTART;TZID=Europe/London:20260319T200000
DTEND;TZID=Europe/London:20260319T210000
DTSTAMP:20260421T174256
CREATED:20201011T190302Z
LAST-MODIFIED:20201011T190302Z
UID:13681-1773950400-1773954000@www.lurganbaptist.church
SUMMARY:Prayer Meeting
DESCRIPTION:
URL:https://www.lurganbaptist.church/meeting/prayer-meeting/2026-03-19/
LOCATION:Main Church Building
CATEGORIES:Prayer
ATTACH;FMTTYPE=image/jpeg:https://www.lurganbaptist.church/wp-content/uploads/2020/05/Romans-12_121.jpg
END:VEVENT
BEGIN:VEVENT
DTSTART;TZID=Europe/London:20260321T140000
DTEND;TZID=Europe/London:20260321T160000
DTSTAMP:20260421T174256
CREATED:20221004T125725Z
LAST-MODIFIED:20221004T125725Z
UID:13682-1774101600-1774108800@www.lurganbaptist.church
SUMMARY:Street Outreach
DESCRIPTION:
URL:https://www.lurganbaptist.church/meeting/street-outreach/2026-03-21/
LOCATION:External
CATEGORIES:Outreach
ATTACH;FMTTYPE=image/jpeg:https://www.lurganbaptist.church/wp-content/uploads/2022/05/street2-2.jpg
END:VEVENT
BEGIN:VEVENT
DTSTART;TZID=Europe/London:20260322T110000
DTEND;TZID=Europe/London:20260322T120000
DTSTAMP:20260421T174256
CREATED:20201011T183621Z
LAST-MODIFIED:20201011T183621Z
UID:13684-1774177200-1774180800@www.lurganbaptist.church
SUMMARY:Sunday Morning Service & Breaking of Bread
DESCRIPTION:At 11 am every Sunday morning the assembly gathers for worship and to listen to an exposition of God’s Word. \nThe focus of the ministry in this service is to feed God’s people and to equip them for living a God-glorifying life. \nThe climax of this time together is when we meet around the Lord’s table to remember the Saviour’s sacrifice on the cross.
URL:https://www.lurganbaptist.church/meeting/sunday-morning-service-breaking-of-bread/2026-03-22/
LOCATION:Main Church Building
CATEGORIES:Services
ATTACH;FMTTYPE=image/jpeg:https://www.lurganbaptist.church/wp-content/uploads/2019/04/church-interior-4.jpg
END:VEVENT
BEGIN:VEVENT
DTSTART;TZID=Europe/London:20260322T190000
DTEND;TZID=Europe/London:20260322T190000
DTSTAMP:20260421T174256
CREATED:20201011T181412Z
LAST-MODIFIED:20201011T181412Z
UID:13683-1774206000-1774206000@www.lurganbaptist.church
SUMMARY:Gospel Service
DESCRIPTION:At 7 pm each Sunday evening we gather again to proclaim the gospel message. These meetings are convened to help those who have not put their faith in the Lord Jesus to come to a clearer understanding of the gospel and the desire is that people will respond by coming to Christ for Salvation. \nThere is a soloist or group who will minister the gospel by song. There is also a period of community singing at the outset of the meeting. \nIf you would like to know more about the gospel you will be made very welcome on a Sunday Night.
URL:https://www.lurganbaptist.church/meeting/gospel-service/2026-03-22/
LOCATION:Main Church Building
CATEGORIES:Services
ATTACH;FMTTYPE=image/jpeg:https://www.lurganbaptist.church/wp-content/uploads/2020/09/autumn-leaves.jpg
END:VEVENT
BEGIN:VEVENT
DTSTART;TZID=Europe/London:20260326T200000
DTEND;TZID=Europe/London:20260326T210000
DTSTAMP:20260421T174256
CREATED:20201011T190302Z
LAST-MODIFIED:20201011T190302Z
UID:13685-1774555200-1774558800@www.lurganbaptist.church
SUMMARY:Prayer Meeting
DESCRIPTION:
URL:https://www.lurganbaptist.church/meeting/prayer-meeting/2026-03-26/
LOCATION:Main Church Building
CATEGORIES:Prayer
ATTACH;FMTTYPE=image/jpeg:https://www.lurganbaptist.church/wp-content/uploads/2020/05/Romans-12_121.jpg
END:VEVENT
BEGIN:VEVENT
DTSTART;TZID=Europe/London:20260328T140000
DTEND;TZID=Europe/London:20260328T160000
DTSTAMP:20260421T174256
CREATED:20221004T125725Z
LAST-MODIFIED:20221004T125725Z
UID:13686-1774706400-1774713600@www.lurganbaptist.church
SUMMARY:Street Outreach
DESCRIPTION:
URL:https://www.lurganbaptist.church/meeting/street-outreach/2026-03-28/
LOCATION:External
CATEGORIES:Outreach
ATTACH;FMTTYPE=image/jpeg:https://www.lurganbaptist.church/wp-content/uploads/2022/05/street2-2.jpg
END:VEVENT
BEGIN:VEVENT
DTSTART;TZID=Europe/London:20260329T110000
DTEND;TZID=Europe/London:20260329T120000
DTSTAMP:20260421T174256
CREATED:20201011T183621Z
LAST-MODIFIED:20201011T183621Z
UID:13688-1774782000-1774785600@www.lurganbaptist.church
SUMMARY:Sunday Morning Service & Breaking of Bread
DESCRIPTION:At 11 am every Sunday morning the assembly gathers for worship and to listen to an exposition of God’s Word. \nThe focus of the ministry in this service is to feed God’s people and to equip them for living a God-glorifying life. \nThe climax of this time together is when we meet around the Lord’s table to remember the Saviour’s sacrifice on the cross.
URL:https://www.lurganbaptist.church/meeting/sunday-morning-service-breaking-of-bread/2026-03-29/
LOCATION:Main Church Building
CATEGORIES:Services
ATTACH;FMTTYPE=image/jpeg:https://www.lurganbaptist.church/wp-content/uploads/2019/04/church-interior-4.jpg
END:VEVENT
BEGIN:VEVENT
DTSTART;TZID=Europe/London:20260329T190000
DTEND;TZID=Europe/London:20260329T190000
DTSTAMP:20260421T174256
CREATED:20201011T181412Z
LAST-MODIFIED:20201011T181412Z
UID:13687-1774810800-1774810800@www.lurganbaptist.church
SUMMARY:Gospel Service
DESCRIPTION:At 7 pm each Sunday evening we gather again to proclaim the gospel message. These meetings are convened to help those who have not put their faith in the Lord Jesus to come to a clearer understanding of the gospel and the desire is that people will respond by coming to Christ for Salvation. \nThere is a soloist or group who will minister the gospel by song. There is also a period of community singing at the outset of the meeting. \nIf you would like to know more about the gospel you will be made very welcome on a Sunday Night.
URL:https://www.lurganbaptist.church/meeting/gospel-service/2026-03-29/
LOCATION:Main Church Building
CATEGORIES:Services
ATTACH;FMTTYPE=image/jpeg:https://www.lurganbaptist.church/wp-content/uploads/2020/09/autumn-leaves.jpg
END:VEVENT
BEGIN:VEVENT
DTSTART;TZID=Europe/London:20260330T200000
DTEND;TZID=Europe/London:20260330T210000
DTSTAMP:20260421T174256
CREATED:20201011T193017Z
LAST-MODIFIED:20201011T193017Z
UID:13689-1774900800-1774904400@www.lurganbaptist.church
SUMMARY:S.A.L.T. Group
DESCRIPTION:
URL:https://www.lurganbaptist.church/meeting/s-a-l-t-group/2026-03-30/
CATEGORIES:Adult's Ministries
END:VEVENT
BEGIN:VEVENT
DTSTART;TZID=Europe/London:20260401T200000
DTEND;TZID=Europe/London:20260401T210000
DTSTAMP:20260421T174256
CREATED:20201011T185547Z
LAST-MODIFIED:20201011T185547Z
UID:13690-1775073600-1775077200@www.lurganbaptist.church
SUMMARY:Lurgan Baptist Women
DESCRIPTION:
URL:https://www.lurganbaptist.church/meeting/lurgan-baptist-women/2026-04-01/
LOCATION:Main Church Building
CATEGORIES:Adult's Ministries
ATTACH;FMTTYPE=image/jpeg:https://www.lurganbaptist.church/wp-content/uploads/2020/10/photo_2020-10-11_19-55-07.jpg
END:VEVENT
BEGIN:VEVENT
DTSTART;TZID=Europe/London:20260402T200000
DTEND;TZID=Europe/London:20260402T210000
DTSTAMP:20260421T174256
CREATED:20201011T190302Z
LAST-MODIFIED:20201011T190302Z
UID:13691-1775160000-1775163600@www.lurganbaptist.church
SUMMARY:Prayer Meeting
DESCRIPTION:
URL:https://www.lurganbaptist.church/meeting/prayer-meeting/2026-04-02/
LOCATION:Main Church Building
CATEGORIES:Prayer
ATTACH;FMTTYPE=image/jpeg:https://www.lurganbaptist.church/wp-content/uploads/2020/05/Romans-12_121.jpg
END:VEVENT
BEGIN:VEVENT
DTSTART;TZID=Europe/London:20260404T140000
DTEND;TZID=Europe/London:20260404T160000
DTSTAMP:20260421T174256
CREATED:20221004T125725Z
LAST-MODIFIED:20221004T125725Z
UID:13696-1775311200-1775318400@www.lurganbaptist.church
SUMMARY:Street Outreach
DESCRIPTION:
URL:https://www.lurganbaptist.church/meeting/street-outreach/2026-04-04/
LOCATION:External
CATEGORIES:Outreach
ATTACH;FMTTYPE=image/jpeg:https://www.lurganbaptist.church/wp-content/uploads/2022/05/street2-2.jpg
END:VEVENT
BEGIN:VEVENT
DTSTART;TZID=Europe/London:20260405T110000
DTEND;TZID=Europe/London:20260405T120000
DTSTAMP:20260421T174256
CREATED:20201011T183621Z
LAST-MODIFIED:20201011T183621Z
UID:13698-1775386800-1775390400@www.lurganbaptist.church
SUMMARY:Sunday Morning Service & Breaking of Bread
DESCRIPTION:At 11 am every Sunday morning the assembly gathers for worship and to listen to an exposition of God’s Word. \nThe focus of the ministry in this service is to feed God’s people and to equip them for living a God-glorifying life. \nThe climax of this time together is when we meet around the Lord’s table to remember the Saviour’s sacrifice on the cross.
URL:https://www.lurganbaptist.church/meeting/sunday-morning-service-breaking-of-bread/2026-04-05/
LOCATION:Main Church Building
CATEGORIES:Services
ATTACH;FMTTYPE=image/jpeg:https://www.lurganbaptist.church/wp-content/uploads/2019/04/church-interior-4.jpg
END:VEVENT
BEGIN:VEVENT
DTSTART;TZID=Europe/London:20260405T190000
DTEND;TZID=Europe/London:20260405T190000
DTSTAMP:20260421T174256
CREATED:20201011T181412Z
LAST-MODIFIED:20201011T181412Z
UID:13697-1775415600-1775415600@www.lurganbaptist.church
SUMMARY:Gospel Service
DESCRIPTION:At 7 pm each Sunday evening we gather again to proclaim the gospel message. These meetings are convened to help those who have not put their faith in the Lord Jesus to come to a clearer understanding of the gospel and the desire is that people will respond by coming to Christ for Salvation. \nThere is a soloist or group who will minister the gospel by song. There is also a period of community singing at the outset of the meeting. \nIf you would like to know more about the gospel you will be made very welcome on a Sunday Night.
URL:https://www.lurganbaptist.church/meeting/gospel-service/2026-04-05/
LOCATION:Main Church Building
CATEGORIES:Services
ATTACH;FMTTYPE=image/jpeg:https://www.lurganbaptist.church/wp-content/uploads/2020/09/autumn-leaves.jpg
END:VEVENT
BEGIN:VEVENT
DTSTART;TZID=Europe/London:20260409T200000
DTEND;TZID=Europe/London:20260409T210000
DTSTAMP:20260421T174256
CREATED:20201011T190302Z
LAST-MODIFIED:20201011T190302Z
UID:13699-1775764800-1775768400@www.lurganbaptist.church
SUMMARY:Prayer Meeting
DESCRIPTION:
URL:https://www.lurganbaptist.church/meeting/prayer-meeting/2026-04-09/
LOCATION:Main Church Building
CATEGORIES:Prayer
ATTACH;FMTTYPE=image/jpeg:https://www.lurganbaptist.church/wp-content/uploads/2020/05/Romans-12_121.jpg
END:VEVENT
BEGIN:VEVENT
DTSTART;TZID=Europe/London:20260411T140000
DTEND;TZID=Europe/London:20260411T160000
DTSTAMP:20260421T174256
CREATED:20221004T125725Z
LAST-MODIFIED:20221004T125725Z
UID:13700-1775916000-1775923200@www.lurganbaptist.church
SUMMARY:Street Outreach
DESCRIPTION:
URL:https://www.lurganbaptist.church/meeting/street-outreach/2026-04-11/
LOCATION:External
CATEGORIES:Outreach
ATTACH;FMTTYPE=image/jpeg:https://www.lurganbaptist.church/wp-content/uploads/2022/05/street2-2.jpg
END:VEVENT
BEGIN:VEVENT
DTSTART;TZID=Europe/London:20260412T110000
DTEND;TZID=Europe/London:20260412T120000
DTSTAMP:20260421T174256
CREATED:20201011T183621Z
LAST-MODIFIED:20201011T183621Z
UID:13702-1775991600-1775995200@www.lurganbaptist.church
SUMMARY:Sunday Morning Service & Breaking of Bread
DESCRIPTION:At 11 am every Sunday morning the assembly gathers for worship and to listen to an exposition of God’s Word. \nThe focus of the ministry in this service is to feed God’s people and to equip them for living a God-glorifying life. \nThe climax of this time together is when we meet around the Lord’s table to remember the Saviour’s sacrifice on the cross.
URL:https://www.lurganbaptist.church/meeting/sunday-morning-service-breaking-of-bread/2026-04-12/
LOCATION:Main Church Building
CATEGORIES:Services
ATTACH;FMTTYPE=image/jpeg:https://www.lurganbaptist.church/wp-content/uploads/2019/04/church-interior-4.jpg
END:VEVENT
END:VCALENDAR