BEGIN:VCALENDAR
VERSION:2.0
PRODID:-//Lurgan Baptist Church - ECPv6.0.6.2//NONSGML v1.0//EN
CALSCALE:GREGORIAN
METHOD:PUBLISH
X-ORIGINAL-URL:https://www.lurganbaptist.church
X-WR-CALDESC:Events for Lurgan Baptist Church
REFRESH-INTERVAL;VALUE=DURATION:PT1H
X-Robots-Tag:noindex
X-PUBLISHED-TTL:PT1H
BEGIN:VTIMEZONE
TZID:Europe/London
BEGIN:DAYLIGHT
TZOFFSETFROM:+0000
TZOFFSETTO:+0100
TZNAME:BST
DTSTART:20260329T010000
END:DAYLIGHT
BEGIN:STANDARD
TZOFFSETFROM:+0100
TZOFFSETTO:+0000
TZNAME:GMT
DTSTART:20261025T010000
END:STANDARD
END:VTIMEZONE
BEGIN:VEVENT
DTSTART;TZID=Europe/London:20260514T200000
DTEND;TZID=Europe/London:20260514T210000
DTSTAMP:20260422T010222
CREATED:20201011T190302Z
LAST-MODIFIED:20201011T190302Z
UID:13723-1778788800-1778792400@www.lurganbaptist.church
SUMMARY:Prayer Meeting
DESCRIPTION:
URL:https://www.lurganbaptist.church/meeting/prayer-meeting/2026-05-14/
LOCATION:Main Church Building
CATEGORIES:Prayer
ATTACH;FMTTYPE=image/jpeg:https://www.lurganbaptist.church/wp-content/uploads/2020/05/Romans-12_121.jpg
END:VEVENT
BEGIN:VEVENT
DTSTART;TZID=Europe/London:20260516T140000
DTEND;TZID=Europe/London:20260516T160000
DTSTAMP:20260422T010222
CREATED:20221004T125725Z
LAST-MODIFIED:20221004T125725Z
UID:13724-1778940000-1778947200@www.lurganbaptist.church
SUMMARY:Street Outreach
DESCRIPTION:
URL:https://www.lurganbaptist.church/meeting/street-outreach/2026-05-16/
LOCATION:External
CATEGORIES:Outreach
ATTACH;FMTTYPE=image/jpeg:https://www.lurganbaptist.church/wp-content/uploads/2022/05/street2-2.jpg
END:VEVENT
BEGIN:VEVENT
DTSTART;TZID=Europe/London:20260517T110000
DTEND;TZID=Europe/London:20260517T120000
DTSTAMP:20260422T010222
CREATED:20201011T183621Z
LAST-MODIFIED:20201011T183621Z
UID:13726-1779015600-1779019200@www.lurganbaptist.church
SUMMARY:Sunday Morning Service & Breaking of Bread
DESCRIPTION:At 11 am every Sunday morning the assembly gathers for worship and to listen to an exposition of God’s Word. \nThe focus of the ministry in this service is to feed God’s people and to equip them for living a God-glorifying life. \nThe climax of this time together is when we meet around the Lord’s table to remember the Saviour’s sacrifice on the cross.
URL:https://www.lurganbaptist.church/meeting/sunday-morning-service-breaking-of-bread/2026-05-17/
LOCATION:Main Church Building
CATEGORIES:Services
ATTACH;FMTTYPE=image/jpeg:https://www.lurganbaptist.church/wp-content/uploads/2019/04/church-interior-4.jpg
END:VEVENT
BEGIN:VEVENT
DTSTART;TZID=Europe/London:20260517T190000
DTEND;TZID=Europe/London:20260517T190000
DTSTAMP:20260422T010222
CREATED:20201011T181412Z
LAST-MODIFIED:20201011T181412Z
UID:13725-1779044400-1779044400@www.lurganbaptist.church
SUMMARY:Gospel Service
DESCRIPTION:At 7 pm each Sunday evening we gather again to proclaim the gospel message. These meetings are convened to help those who have not put their faith in the Lord Jesus to come to a clearer understanding of the gospel and the desire is that people will respond by coming to Christ for Salvation. \nThere is a soloist or group who will minister the gospel by song. There is also a period of community singing at the outset of the meeting. \nIf you would like to know more about the gospel you will be made very welcome on a Sunday Night.
URL:https://www.lurganbaptist.church/meeting/gospel-service/2026-05-17/
LOCATION:Main Church Building
CATEGORIES:Services
ATTACH;FMTTYPE=image/jpeg:https://www.lurganbaptist.church/wp-content/uploads/2020/09/autumn-leaves.jpg
END:VEVENT
BEGIN:VEVENT
DTSTART;TZID=Europe/London:20260521T200000
DTEND;TZID=Europe/London:20260521T210000
DTSTAMP:20260422T010222
CREATED:20201011T190302Z
LAST-MODIFIED:20201011T190302Z
UID:13727-1779393600-1779397200@www.lurganbaptist.church
SUMMARY:Prayer Meeting
DESCRIPTION:
URL:https://www.lurganbaptist.church/meeting/prayer-meeting/2026-05-21/
LOCATION:Main Church Building
CATEGORIES:Prayer
ATTACH;FMTTYPE=image/jpeg:https://www.lurganbaptist.church/wp-content/uploads/2020/05/Romans-12_121.jpg
END:VEVENT
BEGIN:VEVENT
DTSTART;TZID=Europe/London:20260523T140000
DTEND;TZID=Europe/London:20260523T160000
DTSTAMP:20260422T010222
CREATED:20221004T125725Z
LAST-MODIFIED:20221004T125725Z
UID:13728-1779544800-1779552000@www.lurganbaptist.church
SUMMARY:Street Outreach
DESCRIPTION:
URL:https://www.lurganbaptist.church/meeting/street-outreach/2026-05-23/
LOCATION:External
CATEGORIES:Outreach
ATTACH;FMTTYPE=image/jpeg:https://www.lurganbaptist.church/wp-content/uploads/2022/05/street2-2.jpg
END:VEVENT
BEGIN:VEVENT
DTSTART;TZID=Europe/London:20260524T110000
DTEND;TZID=Europe/London:20260524T120000
DTSTAMP:20260422T010222
CREATED:20201011T183621Z
LAST-MODIFIED:20201011T183621Z
UID:13730-1779620400-1779624000@www.lurganbaptist.church
SUMMARY:Sunday Morning Service & Breaking of Bread
DESCRIPTION:At 11 am every Sunday morning the assembly gathers for worship and to listen to an exposition of God’s Word. \nThe focus of the ministry in this service is to feed God’s people and to equip them for living a God-glorifying life. \nThe climax of this time together is when we meet around the Lord’s table to remember the Saviour’s sacrifice on the cross.
URL:https://www.lurganbaptist.church/meeting/sunday-morning-service-breaking-of-bread/2026-05-24/
LOCATION:Main Church Building
CATEGORIES:Services
ATTACH;FMTTYPE=image/jpeg:https://www.lurganbaptist.church/wp-content/uploads/2019/04/church-interior-4.jpg
END:VEVENT
BEGIN:VEVENT
DTSTART;TZID=Europe/London:20260524T190000
DTEND;TZID=Europe/London:20260524T190000
DTSTAMP:20260422T010222
CREATED:20201011T181412Z
LAST-MODIFIED:20201011T181412Z
UID:13729-1779649200-1779649200@www.lurganbaptist.church
SUMMARY:Gospel Service
DESCRIPTION:At 7 pm each Sunday evening we gather again to proclaim the gospel message. These meetings are convened to help those who have not put their faith in the Lord Jesus to come to a clearer understanding of the gospel and the desire is that people will respond by coming to Christ for Salvation. \nThere is a soloist or group who will minister the gospel by song. There is also a period of community singing at the outset of the meeting. \nIf you would like to know more about the gospel you will be made very welcome on a Sunday Night.
URL:https://www.lurganbaptist.church/meeting/gospel-service/2026-05-24/
LOCATION:Main Church Building
CATEGORIES:Services
ATTACH;FMTTYPE=image/jpeg:https://www.lurganbaptist.church/wp-content/uploads/2020/09/autumn-leaves.jpg
END:VEVENT
BEGIN:VEVENT
DTSTART;TZID=Europe/London:20260525T200000
DTEND;TZID=Europe/London:20260525T210000
DTSTAMP:20260422T010222
CREATED:20201011T193017Z
LAST-MODIFIED:20201011T193017Z
UID:13731-1779739200-1779742800@www.lurganbaptist.church
SUMMARY:S.A.L.T. Group
DESCRIPTION:
URL:https://www.lurganbaptist.church/meeting/s-a-l-t-group/2026-05-25/
CATEGORIES:Adult's Ministries
END:VEVENT
BEGIN:VEVENT
DTSTART;TZID=Europe/London:20260528T200000
DTEND;TZID=Europe/London:20260528T210000
DTSTAMP:20260422T010222
CREATED:20201011T190302Z
LAST-MODIFIED:20201011T190302Z
UID:13736-1779998400-1780002000@www.lurganbaptist.church
SUMMARY:Prayer Meeting
DESCRIPTION:
URL:https://www.lurganbaptist.church/meeting/prayer-meeting/2026-05-28/
LOCATION:Main Church Building
CATEGORIES:Prayer
ATTACH;FMTTYPE=image/jpeg:https://www.lurganbaptist.church/wp-content/uploads/2020/05/Romans-12_121.jpg
END:VEVENT
BEGIN:VEVENT
DTSTART;TZID=Europe/London:20260530T140000
DTEND;TZID=Europe/London:20260530T160000
DTSTAMP:20260422T010222
CREATED:20221004T125725Z
LAST-MODIFIED:20221004T125725Z
UID:13737-1780149600-1780156800@www.lurganbaptist.church
SUMMARY:Street Outreach
DESCRIPTION:
URL:https://www.lurganbaptist.church/meeting/street-outreach/2026-05-30/
LOCATION:External
CATEGORIES:Outreach
ATTACH;FMTTYPE=image/jpeg:https://www.lurganbaptist.church/wp-content/uploads/2022/05/street2-2.jpg
END:VEVENT
BEGIN:VEVENT
DTSTART;TZID=Europe/London:20260531T110000
DTEND;TZID=Europe/London:20260531T120000
DTSTAMP:20260422T010222
CREATED:20201011T183621Z
LAST-MODIFIED:20201011T183621Z
UID:13739-1780225200-1780228800@www.lurganbaptist.church
SUMMARY:Sunday Morning Service & Breaking of Bread
DESCRIPTION:At 11 am every Sunday morning the assembly gathers for worship and to listen to an exposition of God’s Word. \nThe focus of the ministry in this service is to feed God’s people and to equip them for living a God-glorifying life. \nThe climax of this time together is when we meet around the Lord’s table to remember the Saviour’s sacrifice on the cross.
URL:https://www.lurganbaptist.church/meeting/sunday-morning-service-breaking-of-bread/2026-05-31/
LOCATION:Main Church Building
CATEGORIES:Services
ATTACH;FMTTYPE=image/jpeg:https://www.lurganbaptist.church/wp-content/uploads/2019/04/church-interior-4.jpg
END:VEVENT
BEGIN:VEVENT
DTSTART;TZID=Europe/London:20260531T190000
DTEND;TZID=Europe/London:20260531T190000
DTSTAMP:20260422T010222
CREATED:20201011T181412Z
LAST-MODIFIED:20201011T181412Z
UID:13738-1780254000-1780254000@www.lurganbaptist.church
SUMMARY:Gospel Service
DESCRIPTION:At 7 pm each Sunday evening we gather again to proclaim the gospel message. These meetings are convened to help those who have not put their faith in the Lord Jesus to come to a clearer understanding of the gospel and the desire is that people will respond by coming to Christ for Salvation. \nThere is a soloist or group who will minister the gospel by song. There is also a period of community singing at the outset of the meeting. \nIf you would like to know more about the gospel you will be made very welcome on a Sunday Night.
URL:https://www.lurganbaptist.church/meeting/gospel-service/2026-05-31/
LOCATION:Main Church Building
CATEGORIES:Services
ATTACH;FMTTYPE=image/jpeg:https://www.lurganbaptist.church/wp-content/uploads/2020/09/autumn-leaves.jpg
END:VEVENT
BEGIN:VEVENT
DTSTART;TZID=Europe/London:20260603T200000
DTEND;TZID=Europe/London:20260603T210000
DTSTAMP:20260422T010222
CREATED:20201011T185547Z
LAST-MODIFIED:20201011T185547Z
UID:13741-1780516800-1780520400@www.lurganbaptist.church
SUMMARY:Lurgan Baptist Women
DESCRIPTION:
URL:https://www.lurganbaptist.church/meeting/lurgan-baptist-women/2026-06-03/
LOCATION:Main Church Building
CATEGORIES:Adult's Ministries
ATTACH;FMTTYPE=image/jpeg:https://www.lurganbaptist.church/wp-content/uploads/2020/10/photo_2020-10-11_19-55-07.jpg
END:VEVENT
BEGIN:VEVENT
DTSTART;TZID=Europe/London:20260604T200000
DTEND;TZID=Europe/London:20260604T210000
DTSTAMP:20260422T010222
CREATED:20201011T190302Z
LAST-MODIFIED:20201011T190302Z
UID:13742-1780603200-1780606800@www.lurganbaptist.church
SUMMARY:Prayer Meeting
DESCRIPTION:
URL:https://www.lurganbaptist.church/meeting/prayer-meeting/2026-06-04/
LOCATION:Main Church Building
CATEGORIES:Prayer
ATTACH;FMTTYPE=image/jpeg:https://www.lurganbaptist.church/wp-content/uploads/2020/05/Romans-12_121.jpg
END:VEVENT
BEGIN:VEVENT
DTSTART;TZID=Europe/London:20260606T140000
DTEND;TZID=Europe/London:20260606T160000
DTSTAMP:20260422T010222
CREATED:20221004T125725Z
LAST-MODIFIED:20221004T125725Z
UID:13743-1780754400-1780761600@www.lurganbaptist.church
SUMMARY:Street Outreach
DESCRIPTION:
URL:https://www.lurganbaptist.church/meeting/street-outreach/2026-06-06/
LOCATION:External
CATEGORIES:Outreach
ATTACH;FMTTYPE=image/jpeg:https://www.lurganbaptist.church/wp-content/uploads/2022/05/street2-2.jpg
END:VEVENT
BEGIN:VEVENT
DTSTART;TZID=Europe/London:20260607T110000
DTEND;TZID=Europe/London:20260607T120000
DTSTAMP:20260422T010222
CREATED:20201011T183621Z
LAST-MODIFIED:20201011T183621Z
UID:13745-1780830000-1780833600@www.lurganbaptist.church
SUMMARY:Sunday Morning Service & Breaking of Bread
DESCRIPTION:At 11 am every Sunday morning the assembly gathers for worship and to listen to an exposition of God’s Word. \nThe focus of the ministry in this service is to feed God’s people and to equip them for living a God-glorifying life. \nThe climax of this time together is when we meet around the Lord’s table to remember the Saviour’s sacrifice on the cross.
URL:https://www.lurganbaptist.church/meeting/sunday-morning-service-breaking-of-bread/2026-06-07/
LOCATION:Main Church Building
CATEGORIES:Services
ATTACH;FMTTYPE=image/jpeg:https://www.lurganbaptist.church/wp-content/uploads/2019/04/church-interior-4.jpg
END:VEVENT
BEGIN:VEVENT
DTSTART;TZID=Europe/London:20260607T190000
DTEND;TZID=Europe/London:20260607T190000
DTSTAMP:20260422T010222
CREATED:20201011T181412Z
LAST-MODIFIED:20201011T181412Z
UID:13744-1780858800-1780858800@www.lurganbaptist.church
SUMMARY:Gospel Service
DESCRIPTION:At 7 pm each Sunday evening we gather again to proclaim the gospel message. These meetings are convened to help those who have not put their faith in the Lord Jesus to come to a clearer understanding of the gospel and the desire is that people will respond by coming to Christ for Salvation. \nThere is a soloist or group who will minister the gospel by song. There is also a period of community singing at the outset of the meeting. \nIf you would like to know more about the gospel you will be made very welcome on a Sunday Night.
URL:https://www.lurganbaptist.church/meeting/gospel-service/2026-06-07/
LOCATION:Main Church Building
CATEGORIES:Services
ATTACH;FMTTYPE=image/jpeg:https://www.lurganbaptist.church/wp-content/uploads/2020/09/autumn-leaves.jpg
END:VEVENT
BEGIN:VEVENT
DTSTART;TZID=Europe/London:20260611T200000
DTEND;TZID=Europe/London:20260611T210000
DTSTAMP:20260422T010222
CREATED:20201011T190302Z
LAST-MODIFIED:20201011T190302Z
UID:13748-1781208000-1781211600@www.lurganbaptist.church
SUMMARY:Prayer Meeting
DESCRIPTION:
URL:https://www.lurganbaptist.church/meeting/prayer-meeting/2026-06-11/
LOCATION:Main Church Building
CATEGORIES:Prayer
ATTACH;FMTTYPE=image/jpeg:https://www.lurganbaptist.church/wp-content/uploads/2020/05/Romans-12_121.jpg
END:VEVENT
BEGIN:VEVENT
DTSTART;TZID=Europe/London:20260613T140000
DTEND;TZID=Europe/London:20260613T160000
DTSTAMP:20260422T010222
CREATED:20221004T125725Z
LAST-MODIFIED:20221004T125725Z
UID:13750-1781359200-1781366400@www.lurganbaptist.church
SUMMARY:Street Outreach
DESCRIPTION:
URL:https://www.lurganbaptist.church/meeting/street-outreach/2026-06-13/
LOCATION:External
CATEGORIES:Outreach
ATTACH;FMTTYPE=image/jpeg:https://www.lurganbaptist.church/wp-content/uploads/2022/05/street2-2.jpg
END:VEVENT
BEGIN:VEVENT
DTSTART;TZID=Europe/London:20260614T110000
DTEND;TZID=Europe/London:20260614T120000
DTSTAMP:20260422T010222
CREATED:20201011T183621Z
LAST-MODIFIED:20201011T183621Z
UID:13752-1781434800-1781438400@www.lurganbaptist.church
SUMMARY:Sunday Morning Service & Breaking of Bread
DESCRIPTION:At 11 am every Sunday morning the assembly gathers for worship and to listen to an exposition of God’s Word. \nThe focus of the ministry in this service is to feed God’s people and to equip them for living a God-glorifying life. \nThe climax of this time together is when we meet around the Lord’s table to remember the Saviour’s sacrifice on the cross.
URL:https://www.lurganbaptist.church/meeting/sunday-morning-service-breaking-of-bread/2026-06-14/
LOCATION:Main Church Building
CATEGORIES:Services
ATTACH;FMTTYPE=image/jpeg:https://www.lurganbaptist.church/wp-content/uploads/2019/04/church-interior-4.jpg
END:VEVENT
BEGIN:VEVENT
DTSTART;TZID=Europe/London:20260614T190000
DTEND;TZID=Europe/London:20260614T190000
DTSTAMP:20260422T010222
CREATED:20201011T181412Z
LAST-MODIFIED:20201011T181412Z
UID:13751-1781463600-1781463600@www.lurganbaptist.church
SUMMARY:Gospel Service
DESCRIPTION:At 7 pm each Sunday evening we gather again to proclaim the gospel message. These meetings are convened to help those who have not put their faith in the Lord Jesus to come to a clearer understanding of the gospel and the desire is that people will respond by coming to Christ for Salvation. \nThere is a soloist or group who will minister the gospel by song. There is also a period of community singing at the outset of the meeting. \nIf you would like to know more about the gospel you will be made very welcome on a Sunday Night.
URL:https://www.lurganbaptist.church/meeting/gospel-service/2026-06-14/
LOCATION:Main Church Building
CATEGORIES:Services
ATTACH;FMTTYPE=image/jpeg:https://www.lurganbaptist.church/wp-content/uploads/2020/09/autumn-leaves.jpg
END:VEVENT
BEGIN:VEVENT
DTSTART;TZID=Europe/London:20260618T200000
DTEND;TZID=Europe/London:20260618T210000
DTSTAMP:20260422T010222
CREATED:20201011T190302Z
LAST-MODIFIED:20201011T190302Z
UID:13756-1781812800-1781816400@www.lurganbaptist.church
SUMMARY:Prayer Meeting
DESCRIPTION:
URL:https://www.lurganbaptist.church/meeting/prayer-meeting/2026-06-18/
LOCATION:Main Church Building
CATEGORIES:Prayer
ATTACH;FMTTYPE=image/jpeg:https://www.lurganbaptist.church/wp-content/uploads/2020/05/Romans-12_121.jpg
END:VEVENT
BEGIN:VEVENT
DTSTART;TZID=Europe/London:20260620T140000
DTEND;TZID=Europe/London:20260620T160000
DTSTAMP:20260422T010222
CREATED:20221004T125725Z
LAST-MODIFIED:20221004T125725Z
UID:13757-1781964000-1781971200@www.lurganbaptist.church
SUMMARY:Street Outreach
DESCRIPTION:
URL:https://www.lurganbaptist.church/meeting/street-outreach/2026-06-20/
LOCATION:External
CATEGORIES:Outreach
ATTACH;FMTTYPE=image/jpeg:https://www.lurganbaptist.church/wp-content/uploads/2022/05/street2-2.jpg
END:VEVENT
BEGIN:VEVENT
DTSTART;TZID=Europe/London:20260621T110000
DTEND;TZID=Europe/London:20260621T120000
DTSTAMP:20260422T010222
CREATED:20201011T183621Z
LAST-MODIFIED:20201011T183621Z
UID:13759-1782039600-1782043200@www.lurganbaptist.church
SUMMARY:Sunday Morning Service & Breaking of Bread
DESCRIPTION:At 11 am every Sunday morning the assembly gathers for worship and to listen to an exposition of God’s Word. \nThe focus of the ministry in this service is to feed God’s people and to equip them for living a God-glorifying life. \nThe climax of this time together is when we meet around the Lord’s table to remember the Saviour’s sacrifice on the cross.
URL:https://www.lurganbaptist.church/meeting/sunday-morning-service-breaking-of-bread/2026-06-21/
LOCATION:Main Church Building
CATEGORIES:Services
ATTACH;FMTTYPE=image/jpeg:https://www.lurganbaptist.church/wp-content/uploads/2019/04/church-interior-4.jpg
END:VEVENT
BEGIN:VEVENT
DTSTART;TZID=Europe/London:20260621T190000
DTEND;TZID=Europe/London:20260621T190000
DTSTAMP:20260422T010222
CREATED:20201011T181412Z
LAST-MODIFIED:20201011T181412Z
UID:13758-1782068400-1782068400@www.lurganbaptist.church
SUMMARY:Gospel Service
DESCRIPTION:At 7 pm each Sunday evening we gather again to proclaim the gospel message. These meetings are convened to help those who have not put their faith in the Lord Jesus to come to a clearer understanding of the gospel and the desire is that people will respond by coming to Christ for Salvation. \nThere is a soloist or group who will minister the gospel by song. There is also a period of community singing at the outset of the meeting. \nIf you would like to know more about the gospel you will be made very welcome on a Sunday Night.
URL:https://www.lurganbaptist.church/meeting/gospel-service/2026-06-21/
LOCATION:Main Church Building
CATEGORIES:Services
ATTACH;FMTTYPE=image/jpeg:https://www.lurganbaptist.church/wp-content/uploads/2020/09/autumn-leaves.jpg
END:VEVENT
BEGIN:VEVENT
DTSTART;TZID=Europe/London:20260625T200000
DTEND;TZID=Europe/London:20260625T210000
DTSTAMP:20260422T010222
CREATED:20201011T190302Z
LAST-MODIFIED:20201011T190302Z
UID:13760-1782417600-1782421200@www.lurganbaptist.church
SUMMARY:Prayer Meeting
DESCRIPTION:
URL:https://www.lurganbaptist.church/meeting/prayer-meeting/2026-06-25/
LOCATION:Main Church Building
CATEGORIES:Prayer
ATTACH;FMTTYPE=image/jpeg:https://www.lurganbaptist.church/wp-content/uploads/2020/05/Romans-12_121.jpg
END:VEVENT
BEGIN:VEVENT
DTSTART;TZID=Europe/London:20260627T140000
DTEND;TZID=Europe/London:20260627T160000
DTSTAMP:20260422T010222
CREATED:20221004T125725Z
LAST-MODIFIED:20221004T125725Z
UID:13761-1782568800-1782576000@www.lurganbaptist.church
SUMMARY:Street Outreach
DESCRIPTION:
URL:https://www.lurganbaptist.church/meeting/street-outreach/2026-06-27/
LOCATION:External
CATEGORIES:Outreach
ATTACH;FMTTYPE=image/jpeg:https://www.lurganbaptist.church/wp-content/uploads/2022/05/street2-2.jpg
END:VEVENT
BEGIN:VEVENT
DTSTART;TZID=Europe/London:20260628T110000
DTEND;TZID=Europe/London:20260628T120000
DTSTAMP:20260422T010222
CREATED:20201011T183621Z
LAST-MODIFIED:20201011T183621Z
UID:13763-1782644400-1782648000@www.lurganbaptist.church
SUMMARY:Sunday Morning Service & Breaking of Bread
DESCRIPTION:At 11 am every Sunday morning the assembly gathers for worship and to listen to an exposition of God’s Word. \nThe focus of the ministry in this service is to feed God’s people and to equip them for living a God-glorifying life. \nThe climax of this time together is when we meet around the Lord’s table to remember the Saviour’s sacrifice on the cross.
URL:https://www.lurganbaptist.church/meeting/sunday-morning-service-breaking-of-bread/2026-06-28/
LOCATION:Main Church Building
CATEGORIES:Services
ATTACH;FMTTYPE=image/jpeg:https://www.lurganbaptist.church/wp-content/uploads/2019/04/church-interior-4.jpg
END:VEVENT
BEGIN:VEVENT
DTSTART;TZID=Europe/London:20260628T190000
DTEND;TZID=Europe/London:20260628T190000
DTSTAMP:20260422T010222
CREATED:20201011T181412Z
LAST-MODIFIED:20201011T181412Z
UID:13762-1782673200-1782673200@www.lurganbaptist.church
SUMMARY:Gospel Service
DESCRIPTION:At 7 pm each Sunday evening we gather again to proclaim the gospel message. These meetings are convened to help those who have not put their faith in the Lord Jesus to come to a clearer understanding of the gospel and the desire is that people will respond by coming to Christ for Salvation. \nThere is a soloist or group who will minister the gospel by song. There is also a period of community singing at the outset of the meeting. \nIf you would like to know more about the gospel you will be made very welcome on a Sunday Night.
URL:https://www.lurganbaptist.church/meeting/gospel-service/2026-06-28/
LOCATION:Main Church Building
CATEGORIES:Services
ATTACH;FMTTYPE=image/jpeg:https://www.lurganbaptist.church/wp-content/uploads/2020/09/autumn-leaves.jpg
END:VEVENT
END:VCALENDAR